BEGIN:VCALENDAR
VERSION:2.0
PRODID:-//Illinois NOW - ECPv6.15.20//NONSGML v1.0//EN
CALSCALE:GREGORIAN
METHOD:PUBLISH
X-WR-CALNAME:Illinois NOW
X-ORIGINAL-URL:https://ilnow.org
X-WR-CALDESC:Events for Illinois NOW
REFRESH-INTERVAL;VALUE=DURATION:PT1H
X-Robots-Tag:noindex
X-PUBLISHED-TTL:PT1H
BEGIN:VTIMEZONE
TZID:America/Chicago
BEGIN:DAYLIGHT
TZOFFSETFROM:-0600
TZOFFSETTO:-0500
TZNAME:CDT
DTSTART:20240310T080000
END:DAYLIGHT
BEGIN:STANDARD
TZOFFSETFROM:-0500
TZOFFSETTO:-0600
TZNAME:CST
DTSTART:20241103T070000
END:STANDARD
BEGIN:DAYLIGHT
TZOFFSETFROM:-0600
TZOFFSETTO:-0500
TZNAME:CDT
DTSTART:20250309T080000
END:DAYLIGHT
BEGIN:STANDARD
TZOFFSETFROM:-0500
TZOFFSETTO:-0600
TZNAME:CST
DTSTART:20251102T070000
END:STANDARD
BEGIN:DAYLIGHT
TZOFFSETFROM:-0600
TZOFFSETTO:-0500
TZNAME:CDT
DTSTART:20260308T080000
END:DAYLIGHT
BEGIN:STANDARD
TZOFFSETFROM:-0500
TZOFFSETTO:-0600
TZNAME:CST
DTSTART:20261101T070000
END:STANDARD
BEGIN:DAYLIGHT
TZOFFSETFROM:-0600
TZOFFSETTO:-0500
TZNAME:CDT
DTSTART:20270314T080000
END:DAYLIGHT
BEGIN:STANDARD
TZOFFSETFROM:-0500
TZOFFSETTO:-0600
TZNAME:CST
DTSTART:20271107T070000
END:STANDARD
END:VTIMEZONE
BEGIN:VEVENT
DTSTART;TZID=America/Chicago:20260920T120000
DTEND;TZID=America/Chicago:20260920T160000
DTSTAMP:20260422T175256
CREATED:20260420T032150Z
LAST-MODIFIED:20260420T032405Z
UID:1102-1789905600-1789920000@ilnow.org
SUMMARY:Q3 LEF & State Council Meeting/State Conference
DESCRIPTION:Susan will send out the agenda and other materials prior to the meeting.
URL:https://ilnow.org/event/fall-lef-state-council-meeting-state-conference/
LOCATION:Virtual
CATEGORIES:IL NOW Event,State Council Meeting
ATTACH;FMTTYPE=image/png:https://ilnow.org/wp-content/uploads/2025/09/il_now_logo_sm.png
END:VEVENT
BEGIN:VEVENT
DTSTART;TZID=America/Chicago:20260626T080000
DTEND;TZID=America/Chicago:20260628T170000
DTSTAMP:20260422T175256
CREATED:20260107T034048Z
LAST-MODIFIED:20260107T034048Z
UID:1033-1782460800-1782666000@ilnow.org
SUMMARY:National NOW 60th Anniversary Conference
DESCRIPTION:More info to come!
URL:https://ilnow.org/event/national-now-60th-anniversary-conference/
CATEGORIES:National NOW Conference
ATTACH;FMTTYPE=image/jpeg:https://ilnow.org/wp-content/uploads/2024/01/NOW-Logo-300x300-1-e1747104048879.jpg
END:VEVENT
BEGIN:VEVENT
DTSTART;TZID=America/Chicago:20260521T100000
DTEND;TZID=America/Chicago:20260521T170000
DTSTAMP:20260422T175256
CREATED:20260408T115410Z
LAST-MODIFIED:20260408T115410Z
UID:1080-1779357600-1779382800@ilnow.org
SUMMARY:2026 LGBTQ+ Advocacy Day
DESCRIPTION:On May 21\, 2026\, LGBTQ+ Illinoisans and our allies will come together in Springfield to advance LGBTQ+ equality. We are excited that you can join us! Please take a moment to complete the registration link below. \nEquality Illinois will coordinate transportation leaving downtown Chicago at 6:00 a.m.\, stopping in Joliet\, and then onward to Springfield. Buses are expected to return to Chicago by 9:00 p.m. \nFor safety reasons\, we will send out a detailed schedule closer to the day of the event. \nThank you for supporting Equality Illinois 2026 Advocacy Day. For more information\, please contact  José Che-Che Wilson at jwilson@eqil.org.
URL:https://ilnow.org/event/2026-lgbtq-advocacy-day/
LOCATION:Illinois State Capital\, 401 S 2nd St\, Springfield\, IL\, 62707\, United States
CATEGORIES:Advocacy / Lobbying,Partner Event
ATTACH;FMTTYPE=image/jpeg:https://ilnow.org/wp-content/uploads/2026/04/Screenshot-2026-03-09-at-5.13.48-PM.jpeg
END:VEVENT
BEGIN:VEVENT
DTSTART;VALUE=DATE:20260513
DTEND;VALUE=DATE:20260514
DTSTAMP:20260422T175256
CREATED:20260420T024944Z
LAST-MODIFIED:20260420T024959Z
UID:1085-1778630400-1778716799@ilnow.org
SUMMARY:League of Women Voters Lobby Day
DESCRIPTION:League of Women Voters members across the state are invited to join us for Lobby Day at the Illinois State Capitol during the 2026 spring legislative session. We will meet with our legislators and advocate for the issues you care about. \nNever lobbied in Springfield before? No worries\, we will provide assistance\, including a Zoom training session on Monday\, May 11 at 7:00 pm. \nWe will meet up in Springfield on Wednesday\, May 13. Our activities begin at 10:00 am. The day will wrap by 3:00 pm.\n\n\n\n\n\n\n\n\n\n\nSign up to join us
URL:https://ilnow.org/event/league-of-women-voters-lobby-day/
LOCATION:Illinois State Capital\, 401 S 2nd St\, Springfield\, IL\, 62707\, United States
CATEGORIES:Advocacy / Lobbying,Partner Event
ATTACH;FMTTYPE=image/png:https://ilnow.org/wp-content/uploads/2026/04/a0dfd7a2-a429-4f8d-8a6e-f8b3b1b994a5.png
END:VEVENT
BEGIN:VEVENT
DTSTART;VALUE=DATE:20260505
DTEND;VALUE=DATE:20260506
DTSTAMP:20260422T175256
CREATED:20260107T035743Z
LAST-MODIFIED:20260107T040407Z
UID:1045-1777939200-1778025599@ilnow.org
SUMMARY:Missing & Murdered Indigenous Women Awareness Day 2026
DESCRIPTION:MMIW Day\, or Missing & Murdered Indigenous Women (and Relatives) Day\, is observed annually on May 5th to raise awareness about the crisis of missing and murdered Indigenous people in the U.S. and Canada\, with people wearing red and holding events to honor victims\, demand action\, and advocate for justice for stolen relatives\, addressing systemic issues like jurisdictional gaps and violence against Native communities.\nIndigenous women and relatives face disproportionately high rates of violence\, sexual assault\, and human trafficking\, often due to jurisdictional complexities between tribal\, state\, and federal authorities\, and systemic issues like racism and discrimination. MMIW Day challenges the silence and inaction surrounding these crimes.
URL:https://ilnow.org/event/missing-murdered-indigenous-women-awareness-day-2026/
CATEGORIES:Observances
ATTACH;FMTTYPE=image/jpeg:https://ilnow.org/wp-content/uploads/2026/01/61O44gE4wL-e1767758508199.jpg
END:VEVENT
BEGIN:VEVENT
DTSTART;VALUE=DATE:20260501
DTEND;VALUE=DATE:20260502
DTSTAMP:20260422T175256
CREATED:20260420T031010Z
LAST-MODIFIED:20260420T031230Z
UID:1094-1777593600-1777679999@ilnow.org
SUMMARY:Workers Over Billionaires
DESCRIPTION:On May 1\, 2026\, workers\, students\, and families rally\, march\, and take action across the country to demand a nation that puts workers over billionaires\, with many refusing business as usual through No School. No Work. No Shopping. \nAcross the Country We are Standing Up AND DEMANDING:\nThat we tax the rich so our families\, not their fortunes\, come first\,\nNo ICE. No war.  No private army serving authoritarian power.\nExpand democracy. Hands off our vote. \nAnd it’s up to us to organize and act together.
URL:https://ilnow.org/event/workers-over-billionaires/
LOCATION:National
CATEGORIES:Partner Event,Protest / Demonstration
ATTACH;FMTTYPE=image/png:https://ilnow.org/wp-content/uploads/2026/04/may-day-strong-scaled.png
END:VEVENT
BEGIN:VEVENT
DTSTART;VALUE=DATE:20260425
DTEND;VALUE=DATE:20260426
DTSTAMP:20260422T175256
CREATED:20260420T025828Z
LAST-MODIFIED:20260420T031322Z
UID:1089-1777075200-1777161599@ilnow.org
SUMMARY:Communities Not Cages
DESCRIPTION:The Department of Homeland Security has been quietly converting warehouses into industrial detention camps to hold and disappear our immigrant neighbors and community members. The decision to target vulnerable groups and warehouse human beings comes straight out of the authoritarian playbook. \nTrump’s mass detention agenda is cruel\, inhumane\, and a threat to all of our rights — and Indivisible is fighting back. \nOn April 25\, we’re joining with coalition leaders from the Detention Watch Network and Disappeared in America for a nationwide day of action — and we need your help to make it as big and successful as possible.  \nImmigrant-led organizations and local activists have been opposing detention expansion for years — and there are already significant wins in this fight. By the latest count\, local activists have stopped 13 proposed warehouse conversions across the country. \nBut many more warehouses are being proposed — and there’s a lot more work to do. Together\, we can block more sites from being built. We can hold DHS accountable for what’s happening at existing facilities. We can make Trump’s detention agenda too politically toxic to sustain. But this only works if we all play our part. \nIf you’re ready to take action\, click here to view the Communities Not Cages map and find an event near you. Or read on\, to learn more about the day of action\, how to host your own event\, and other ways to get involved. \nOur goals and demands\nThe Communities Not Cages Day of Action is about building a nationwide\, coordinated effort to oppose the Trump regime’s mass detention agenda. Together\, we’ll: \n\nShow visible\, public opposition to ICE detention expansion. DHS has been hoping it can quietly expand detention capacity and warehouse human beings without the public hearing about it. It’s up to us to raise the alarm\, and mobilize our communities in opposition.\nDemand that our elected officials join the fight. We need our local electeds to use every tool they have to disrupt the conversion and construction of detention camps in our communities. They must reject any public funding\, permits\, or resources that enable detention expansion.\nBuild connections with other activists in your community. There may be groups in your area who are already engaged in this work and can help you plug in. If not\, you probably have neighbors who are just as concerned as you and are also looking for ways to take action. April 25 is your chance to find those connections and build the resistance in your community.\n\nHow you can join the fight\n1) Find an event near you on April 25. There are events spread across the country including rallies and protests outside proposed and existing detention warehouses. Register for an event\, and invite your friends and neighbors to join you. \n2) Volunteer to host your own event. If there are no events near you\, the host toolkit will help you organize one in your own community. Whether or not there’s a proposed warehouse location near you\, there’s a role for everyone in this fight and we need as many people taking action on April 25 as possible. \n3) Check out our resource page for a full breakdown of the Communities Not Cages Day of Action and the broader campaign to oppose Trump’s detention agenda. This page will have everything you need to get started: event toolkits\, FAQs\, know your rights resources\, recorded trainings\, and tools to find existing or proposed detention warehouses near you. \nIn solidarity\,\nIndivisible Team
URL:https://ilnow.org/event/national/
LOCATION:National
CATEGORIES:Partner Event,Protest / Demonstration
ATTACH;FMTTYPE=image/jpeg:https://ilnow.org/wp-content/uploads/2026/04/Mobilize_Banner_.jpg
END:VEVENT
BEGIN:VEVENT
DTSTART;TZID=America/Chicago:20260422T100000
DTEND;TZID=America/Chicago:20260422T163000
DTSTAMP:20260422T175256
CREATED:20260408T113636Z
LAST-MODIFIED:20260408T122623Z
UID:1074-1776852000-1776875400@ilnow.org
SUMMARY:Planned Parenthood Illinois Action Lobby Day
DESCRIPTION:In the face of anti-choice\, anti-equality attacks by the federal administration and other states\, Illinois is an access haven for sexual and reproductive health care and freedom. But our state’s progress doesn’t just happen. Illinois moves forward because of YOU. \nYou’ll connect with fellow advocates from across the state as we meet and speak with  legislators about expanding sexual and reproductive health care and freedom for all. We need YOU to be part of our collective voice for choice! \nRSVP FOR LOBBY DAY!
URL:https://ilnow.org/event/planned-parenthood-illinois-action-lobby-day/
LOCATION:Illinois State Capital\, 401 S 2nd St\, Springfield\, IL\, 62707\, United States
CATEGORIES:Advocacy / Lobbying,Partner Event
ATTACH;FMTTYPE=image/png:https://ilnow.org/wp-content/uploads/2026/04/undefined.png
END:VEVENT
BEGIN:VEVENT
DTSTART;TZID=America/Chicago:20260418T110000
DTEND;TZID=America/Chicago:20260418T150000
DTSTAMP:20260422T175256
CREATED:20260408T114022Z
LAST-MODIFIED:20260408T114022Z
UID:1078-1776510000-1776524400@ilnow.org
SUMMARY:IL NOW LEF & State Council Meeting
DESCRIPTION:Susan will send out the meeting materials and the details for joining the meeting a week beforehand. \nAll are welcome to attend the meeting. Send an RSVP to Susan at nowillinois@gmail.com
URL:https://ilnow.org/event/il-now-lef-state-council-meeting/
LOCATION:Virtual
CATEGORIES:State Council Meeting
ATTACH;FMTTYPE=image/png:https://ilnow.org/wp-content/uploads/2025/09/il_now_logo_sm.png
END:VEVENT
BEGIN:VEVENT
DTSTART;TZID=America/Chicago:20260416T080000
DTEND;TZID=America/Chicago:20260417T170000
DTSTAMP:20260422T175256
CREATED:20260107T034739Z
LAST-MODIFIED:20260107T034825Z
UID:1039-1776326400-1776445200@ilnow.org
SUMMARY:Future Outlook 2026 Conference
DESCRIPTION:
URL:https://ilnow.org/event/future-outlook-2026-conference/
CATEGORIES:Conference,Partner Event
ATTACH;FMTTYPE=image/png:https://ilnow.org/wp-content/uploads/2025/03/youth-outlook-logo.png
END:VEVENT
BEGIN:VEVENT
DTSTART;TZID=America/Chicago:20260317T060000
DTEND;TZID=America/Chicago:20260317T190000
DTSTAMP:20260422T175256
CREATED:20260107T040537Z
LAST-MODIFIED:20260107T040537Z
UID:1050-1773727200-1773774000@ilnow.org
SUMMARY:IL Primary Election
DESCRIPTION:Don’t forget to get out and vote!
URL:https://ilnow.org/event/il-primary-election/
CATEGORIES:Election
ATTACH;FMTTYPE=image/jpeg:https://ilnow.org/wp-content/uploads/2024/01/7F1AD46F-5D3B-4568-BB08-7ED1C776E2EC-300x253-1.jpeg
END:VEVENT
BEGIN:VEVENT
DTSTART;TZID=America/Chicago:20260207T120000
DTEND;TZID=America/Chicago:20260207T150000
DTSTAMP:20260422T175256
CREATED:20260107T034557Z
LAST-MODIFIED:20260107T034557Z
UID:1037-1770465600-1770476400@ilnow.org
SUMMARY:IL NOW LEF & State Council Meeting
DESCRIPTION:Susan will send out the details for joining the meeting a few weeks beforehand.
URL:https://ilnow.org/event/il-now-lef-state-council-meeting-2/
LOCATION:Virtual
CATEGORIES:State Council Meeting
ATTACH;FMTTYPE=image/png:https://ilnow.org/wp-content/uploads/2024/11/il_now_logo_sm-e1747104197917.png
END:VEVENT
BEGIN:VEVENT
DTSTART;TZID=America/Chicago:20260124T200000
DTEND;TZID=America/Chicago:20260124T233000
DTSTAMP:20260422T175256
CREATED:20260107T035309Z
LAST-MODIFIED:20260107T035357Z
UID:1041-1769284800-1769297400@ilnow.org
SUMMARY:NOISE FOR NOW X GROUND CONTROL TOURING PRESENT 4th Annual Abortion Access Benefit Series
DESCRIPTION:We’re back at it again! Our friends at Ground Control Touring have been working hard on yet another night of incredible music in support of abortion access nation-wide.\nThis year\, we’ll be hosting coinciding shows in 4 cities: Austin at Hotel Vegas\, LA at Lodge Room\, Chicago at Empty Bottle\, and NYC at Bowery Ballroom. See below for full line ups and ticket links. \nProceeds support local independent abortion clinics and abortion funds in each region: ACCESS Reproductive Justice\, The Afiya Center‘s SYS Fund\, Chicago Abortion Fund\, Jane’s Due Process\, New York Abortion Access Fund\, Northwest Abortion Access Fund\, and independent abortion clinics in California\, Illinois\, and New York via Keep Our Clinics. \nWe hope to see you out there! \n\n\n\n\n\n\n\n\n\n\n\nChicago at Empty Bottle:  \nAction/Adventure\, Good Flying Birds\, Mass Text\, This House Is Creaking\, Tobacco City\, Hosted by Kenya Elan\n\n\n\n\n\n\n\n\n\n\n\n\n\n\nGET CHI TICKETS
URL:https://ilnow.org/event/noise-for-now-x-ground-control-touring-present-4th-annual-abortion-access-benefit-series/
LOCATION:Empty Bottle\, 1035 N Western Ave\, Chicago\, IL\, 60622\, United States
CATEGORIES:Fundraiser,Partner Event
ATTACH;FMTTYPE=image/png:https://ilnow.org/wp-content/uploads/2026/01/05bdd1f3-7d6b-c7ee-01f9-a65ce04ecdae.png
END:VEVENT
BEGIN:VEVENT
DTSTART;TZID=America/Chicago:20251012T080000
DTEND;TZID=America/Chicago:20251012T170000
DTSTAMP:20260422T175256
CREATED:20250418T022803Z
LAST-MODIFIED:20250418T022803Z
UID:853-1760256000-1760288400@ilnow.org
SUMMARY:Plainfield Pride
DESCRIPTION:More info to come!
URL:https://ilnow.org/event/plainfield-pride/
CATEGORIES:Partner Event,Pride Event
END:VEVENT
BEGIN:VEVENT
DTSTART;TZID=America/Chicago:20250927T103000
DTEND;TZID=America/Chicago:20250927T170000
DTSTAMP:20260422T175256
CREATED:20250811T233723Z
LAST-MODIFIED:20250812T002758Z
UID:966-1758969000-1758992400@ilnow.org
SUMMARY:IL NOW Conference: NOW More Than Ever...Seriously!
DESCRIPTION:Illinois NOW Conference: NOW More Than Ever…Seriously! \nSaturday\, September 27\, 2025 \n10:30 AM \nNorth Central College\, Naperville \nHosted by Illinois NOW and the North Central College NOW Campus Action Network. \nThis is a free event – lunch provided with advance registration. \nJoin Illinois NOW and the North Central College NOW Campus Action Network for a unique event combining our annual conference\, direct campus action and our 2026 Midterms election kickoff. Our keynote speaker will be Tracy Baim\, activist\, author and the founder and publisher of Windy City Times. We will host a workshop on the crucial 2026 Midterm elections\, featuring multi-generational political activists at the state and local level. We are partnering with the Dyson Wellness Center to build kits for NCC students to protect their mental and reproductive health. We are collecting food for our students and local food bank. Kim Villanueva\, our newly elected president of NOW\, will stop by. We will present our annual awards. We are also throwing in a bit of business with officer elections and action plan resolutions. This is a free event and lunch is provided. We only ask that you register in advance to give us an accurate attendance count. \nEnjoy a beautiful fall day of solidarity\, positive action\, and a break from the current relentless political and mental grind. Don’t miss this! \nREGISTER VIA EVENTBRITE \nSaturday\, September 27 \n10:30 AM  \nNorth Central College \nSmith Hall\, Old Main Building \n30 N Brainard Street \nNaperville
URL:https://ilnow.org/event/il-now-conference-now-more-than-ever-seriously/
LOCATION:North Central College\, Smith Hall\, Old Main Building\, 33 N Brainard Street\, Naperville\, IL\, 60540\, United States
CATEGORIES:Conference,Election,IL Chapter Event,IL NOW Event,IL NOW State Conference
END:VEVENT
BEGIN:VEVENT
DTSTART;VALUE=DATE:20250920
DTEND;VALUE=DATE:20250921
DTSTAMP:20260422T175256
CREATED:20250418T022701Z
LAST-MODIFIED:20250418T022701Z
UID:851-1758326400-1758412799@ilnow.org
SUMMARY:Joliet Pride
DESCRIPTION:More info to come!
URL:https://ilnow.org/event/joliet-pride-2/
LOCATION:Billie Limacher Bicentennial Park\, 201 W Jefferson St\, Joliet\, IL\, 60432\, United States
CATEGORIES:Partner Event,Pride Event
END:VEVENT
BEGIN:VEVENT
DTSTART;VALUE=DATE:20250913
DTEND;VALUE=DATE:20250914
DTSTAMP:20260422T175256
CREATED:20250418T022334Z
LAST-MODIFIED:20250418T022334Z
UID:847-1757721600-1757807999@ilnow.org
SUMMARY:Naper Pride Fest
DESCRIPTION:More info to come!
URL:https://ilnow.org/event/naper-pride-fest/
CATEGORIES:Partner Event,Pride Event
END:VEVENT
BEGIN:VEVENT
DTSTART;TZID=America/Chicago:20250902T160000
DTEND;TZID=America/Chicago:20250902T170000
DTSTAMP:20260422T175256
CREATED:20250822T211541Z
LAST-MODIFIED:20250822T211541Z
UID:986-1756828800-1756832400@ilnow.org
SUMMARY:Protest the Tea Party Patriots SAVE Act Bus
DESCRIPTION:A bus is travelling around the country collecting signatures on petitions to tell our Senators to vote ‘Yes’ on the SAVE Act. The SAVE Act is purported to be needed to prevent ‘illegals’ from voting\, but it’s true purpose to to disenfranchise millions of legitimate votes – women\, trans\, and non-binary persons in particular. \nWhile it is hightly unlikely our Senators Durbin and Duckworth would even consider voting ‘Yes’ on this bill\, we need to show up to show these outside agitators that they are not welcome in our community or anywhere in Illinois.
URL:https://ilnow.org/event/protest-the-tea-party-patriots-save-act-bus/
LOCATION:TBD\, Orland Park\, IL\, United States
CATEGORIES:Protest / Demonstration
ATTACH;FMTTYPE=image/jpeg:https://ilnow.org/wp-content/uploads/2025/08/61lMKePgamL.jpg
END:VEVENT
BEGIN:VEVENT
DTSTART;VALUE=DATE:20250901
DTEND;VALUE=DATE:20250902
DTSTAMP:20260422T175256
CREATED:20250822T200112Z
LAST-MODIFIED:20250822T200133Z
UID:982-1756684800-1756771199@ilnow.org
SUMMARY:Workers Over Billionaires Rally/Protest
DESCRIPTION:Workers Over Billionaires Protest! \n\nOur next day of action will be on Labor Day\, Monday September 1st from 11am to 1pm. The location is TBD. \nAlmost every action of Trump 2.0 has been anti-worker. The Big Ugly Bill initiated the largest transfer of wealth in the history of the country. Taking money and essential services away from those who need to it most and giving it to the 1%. \nCheck on https://www.mobilize.us/ for an event near you!
URL:https://ilnow.org/event/workers-over-billionaires-rally-protest/
LOCATION:TBD\, Orland Park\, IL\, United States
CATEGORIES:Protest / Demonstration
ATTACH;FMTTYPE=image/png:https://ilnow.org/wp-content/uploads/2025/08/workers_over_billionaires.png
END:VEVENT
BEGIN:VEVENT
DTSTART;VALUE=DATE:20250711
DTEND;VALUE=DATE:20250714
DTSTAMP:20260422T175256
CREATED:20250120T040746Z
LAST-MODIFIED:20250418T022406Z
UID:720-1752192000-1752451199@ilnow.org
SUMMARY:2025 National NOW Conference
DESCRIPTION:Join us in Las Vegas on July 11th – 13th for a weekend of workshops\, inspiring speakers\, caucuses\, and feminist fun. We will elect National Officers for the 2025-2029 term in Las Vegas as well. \nRegistration\n\nNOW Member Registration\nNon-member Registration\n\nWhat to expect:\n\nConference Agenda\nSpeakers\nWorkshops\nBylaws & Resolutions\n\nConference Rules
URL:https://ilnow.org/event/2025-national-now-conference/
LOCATION:Sahara Las Vegas\, 2535 Las Vegas Boulevard South\, Las Vegas\, NV\, 89109\, United States
CATEGORIES:Conference,National NOW Conference
ATTACH;FMTTYPE=image/jpeg:https://ilnow.org/wp-content/uploads/2025/01/hotel-image.jpg
END:VEVENT
BEGIN:VEVENT
DTSTART;TZID=America/Chicago:20250615T110000
DTEND;TZID=America/Chicago:20250615T170000
DTSTAMP:20260422T175256
CREATED:20250413T105810Z
LAST-MODIFIED:20250516T041043Z
UID:782-1749985200-1750006800@ilnow.org
SUMMARY:Woodstock PrideFest 2025
DESCRIPTION:Join us for the 7th anniversary of the Woodstock PrideFest! We will have a weekend full of activities\, with the main event happening on Sunday\, June 15th\, starting with an extended parade at 11am and a festival from 12-5pm with food\, entertainment\, vendors and more! \nWe’ve come a long way from the very first Kids PrideFest and evolved into a two day celebration. \nSunday – experience the most colorful parade in McHenry county at our EXTENDED parade route at 11 am. We follow that right up with our day long festival on the Historic Woodstock Square. With entertainment\, speakers\, vendors and more\, this is the PLACE TO BE! \nStay tuned as we announce more great things and events. \nInterested in participating in another way\, such as vendor\, food truck\, or parade? Here is your link https://form.jotform.com/Woodstock_Pride/2025-woodstock-pridefest-vendor–no \nCheck out our other events happening for PrideFest in June: \nWoodstock Pride Art – Show Entire month of June \nWoodstock PrideFest Pub Crawl June 14th 6pm \nWoodstock PrideFest (Parade and Festivities) June 15th 11-5 pm
URL:https://ilnow.org/event/woodstock-pridefest-2025/
LOCATION:Woodstock Square Historic District\, 123 E Van Buren St\, Woodstock\, IL\, 60098\, United States
CATEGORIES:Partner Event,Pride Event
END:VEVENT
BEGIN:VEVENT
DTSTART;TZID=America/Chicago:20250614T080000
DTEND;TZID=America/Chicago:20250614T170000
DTSTAMP:20260422T175256
CREATED:20250208T153546Z
LAST-MODIFIED:20250516T194247Z
UID:739-1749888000-1749920400@ilnow.org
SUMMARY:Ottawa Family Pride Festival
DESCRIPTION:Join us in beautiful downtown Ottawa\, Illinois\, in the heart of the Illinois Valley\, for the Ottawa Family Pride Festival. Our 4th year will feature vendors\, artists\, food\, live music\, Celebrity drag queens\,  crafts\, activities\, and our Annual John Fisher Dann Memorial Pride Parade! \nThroughout the year\, we’ll be sharing more info about the festival\nand ways to get involved. Follow our social media or check back here to stay up to date.
URL:https://ilnow.org/event/ottawa-family-pride-festival/
LOCATION:Jordan Block and Central Park\, 101-103 Main Street\, Ottawa\, 61350\, United States
CATEGORIES:Partner Event,Pride Event
END:VEVENT
BEGIN:VEVENT
DTSTART;TZID=America/Chicago:20250607T120000
DTEND;TZID=America/Chicago:20250607T150000
DTSTAMP:20260422T175256
CREATED:20250418T025215Z
LAST-MODIFIED:20250516T041127Z
UID:855-1749297600-1749308400@ilnow.org
SUMMARY:Downers Grove Pride Fest
DESCRIPTION:EQuality Downers Grove invites you to DG PrideFest 2025\, a vibrant celebration of pride and community! Enjoy music\, delicious treats from a food truck\, kid’s activities\, community booths\, and so much more. \nThe community-wide event is free to attend.  Come out and show your pride.
URL:https://ilnow.org/event/downers-grove-pride-fest/
LOCATION:Fischel Park\, 1036 Grove St\, Downers Grove\, IL\, 60515\, United States
CATEGORIES:Partner Event,Pride Event
END:VEVENT
BEGIN:VEVENT
DTSTART;TZID=America/Chicago:20250522T190000
DTEND;TZID=America/Chicago:20250522T200000
DTSTAMP:20260422T175256
CREATED:20250516T033459Z
LAST-MODIFIED:20250516T034126Z
UID:920-1747940400-1747944000@ilnow.org
SUMMARY:The SAVE Act: What it Means for Women in Illinois
DESCRIPTION:  \n \nREGISTER NOW: bit.ly/3SH8lJy
URL:https://ilnow.org/event/the-save-act-what-it-means-for-women-in-illinois/
LOCATION:Virtual
CATEGORIES:IL NOW Event,Webinar
END:VEVENT
BEGIN:VEVENT
DTSTART;TZID=America/Chicago:20250517T113000
DTEND;TZID=America/Chicago:20250517T220000
DTSTAMP:20260422T175256
CREATED:20250503T040009Z
LAST-MODIFIED:20250503T041920Z
UID:865-1747481400-1747519200@ilnow.org
SUMMARY:Springfield PrideFest
DESCRIPTION:  \nJust a few details about Springfield Pridefest\nParade starts at 11:30 a.m. at 5th & Allen and goes North to PrideFest at 5th & Capitol. \nRibbon Cutting is at Noon. \nParking – street parking as well as the parking ramp at 6th & Capitol. \nSpringfield PrideFest is FREE \nCoolers and outside alcoholic drinks are NOT ALLOWED. \nShirts and shoes are REQUIRED. NO Nudity! \nLive entertainment from 12:30 p.m. until 10:00 p.m. \nWristbands for drinking alcohol are REQUIRED. You must present a valid photo I.D. Wristbands are $5 \nVolunteers check in at PrideFest Central. \nVendors enter festival from 5th & Monroe.
URL:https://ilnow.org/event/springfield-pridefest-2/
LOCATION:Downtown Springfield\, 5th St & Monroe\, Springfield\, IL\, United States
CATEGORIES:Pride Event
END:VEVENT
BEGIN:VEVENT
DTSTART;TZID=America/Chicago:20250508T090000
DTEND;TZID=America/Chicago:20250508T170000
DTSTAMP:20260422T175256
CREATED:20250228T032155Z
LAST-MODIFIED:20250228T033519Z
UID:742-1746694800-1746723600@ilnow.org
SUMMARY:2025 LGBTQ+ Advocacy Day
DESCRIPTION:
URL:https://ilnow.org/event/2025-lgbtq-advocacy-day/
LOCATION:Illinois State Capital\, 401 S 2nd St\, Springfield\, IL\, 62707\, United States
CATEGORIES:Advocacy / Lobbying,Partner Event
END:VEVENT
BEGIN:VEVENT
DTSTART;TZID=America/Chicago:20250505T080000
DTEND;TZID=America/Chicago:20250505T170000
DTSTAMP:20260422T175256
CREATED:20250418T015231Z
LAST-MODIFIED:20250418T015353Z
UID:814-1746432000-1746464400@ilnow.org
SUMMARY:Missing & Murdered Indigenous Women (MMIW) Day
DESCRIPTION:  \n \nMay 5th is MMIW Day\, a day to raise awareness for the widespread anger and sadness in First Nation communities because of the missing and murdered women and children in their communities. A red hand over the mouth has become the symbol of a growing movement toward awareness\, accountability\, and advocacy. The red hand represents the silence of the media\, law enforcement and government agencies on this issue\, as well as the oppression and subjugation of Native women throughout history. Join Native Communities on May 5th by wearing red and raising
URL:https://ilnow.org/event/missing-murdered-indigenous-women-mmiw-day/
CATEGORIES:Advocacy / Lobbying,Conference,Partner Event
END:VEVENT
BEGIN:VEVENT
DTSTART;TZID=America/Chicago:20250429T190000
DTEND;TZID=America/Chicago:20250429T203000
DTSTAMP:20260422T175256
CREATED:20250413T110833Z
LAST-MODIFIED:20250418T014705Z
UID:789-1745953200-1745958600@ilnow.org
SUMMARY:Financial Literacy For Women - Free Webinar
DESCRIPTION:
URL:https://ilnow.org/event/789/
LOCATION:Virtual
CATEGORIES:IL Chapter Event,Webinar
END:VEVENT
BEGIN:VEVENT
DTSTART;TZID=America/Chicago:20250427T120000
DTEND;TZID=America/Chicago:20250427T160000
DTSTAMP:20260422T175256
CREATED:20250315T022905Z
LAST-MODIFIED:20250315T022905Z
UID:758-1745755200-1745769600@ilnow.org
SUMMARY:Spring LEF and State Council Meeting
DESCRIPTION:Contact Susan at nowillinois@gmail.com to RSVP.
URL:https://ilnow.org/event/spring-lef-and-state-council-meeting/
LOCATION:Virtual
CATEGORIES:State Council Meeting
ATTACH;FMTTYPE=image/png:https://ilnow.org/wp-content/uploads/2024/11/il_now_logo_sm-e1747104197917.png
END:VEVENT
END:VCALENDAR