BEGIN:VCALENDAR
VERSION:2.0
PRODID:-//Illinois NOW - ECPv6.15.20//NONSGML v1.0//EN
CALSCALE:GREGORIAN
METHOD:PUBLISH
X-WR-CALNAME:Illinois NOW
X-ORIGINAL-URL:https://ilnow.org
X-WR-CALDESC:Events for Illinois NOW
REFRESH-INTERVAL;VALUE=DURATION:PT1H
X-Robots-Tag:noindex
X-PUBLISHED-TTL:PT1H
BEGIN:VTIMEZONE
TZID:America/Chicago
BEGIN:DAYLIGHT
TZOFFSETFROM:-0600
TZOFFSETTO:-0500
TZNAME:CDT
DTSTART:20250309T080000
END:DAYLIGHT
BEGIN:STANDARD
TZOFFSETFROM:-0500
TZOFFSETTO:-0600
TZNAME:CST
DTSTART:20251102T070000
END:STANDARD
BEGIN:DAYLIGHT
TZOFFSETFROM:-0600
TZOFFSETTO:-0500
TZNAME:CDT
DTSTART:20260308T080000
END:DAYLIGHT
BEGIN:STANDARD
TZOFFSETFROM:-0500
TZOFFSETTO:-0600
TZNAME:CST
DTSTART:20261101T070000
END:STANDARD
BEGIN:DAYLIGHT
TZOFFSETFROM:-0600
TZOFFSETTO:-0500
TZNAME:CDT
DTSTART:20270314T080000
END:DAYLIGHT
BEGIN:STANDARD
TZOFFSETFROM:-0500
TZOFFSETTO:-0600
TZNAME:CST
DTSTART:20271107T070000
END:STANDARD
END:VTIMEZONE
BEGIN:VEVENT
DTSTART;VALUE=DATE:20260425
DTEND;VALUE=DATE:20260426
DTSTAMP:20260420T030047
CREATED:20260420T025828Z
LAST-MODIFIED:20260420T031322Z
UID:1089-1777075200-1777161599@ilnow.org
SUMMARY:Communities Not Cages
DESCRIPTION:The Department of Homeland Security has been quietly converting warehouses into industrial detention camps to hold and disappear our immigrant neighbors and community members. The decision to target vulnerable groups and warehouse human beings comes straight out of the authoritarian playbook. \nTrump’s mass detention agenda is cruel\, inhumane\, and a threat to all of our rights — and Indivisible is fighting back. \nOn April 25\, we’re joining with coalition leaders from the Detention Watch Network and Disappeared in America for a nationwide day of action — and we need your help to make it as big and successful as possible.  \nImmigrant-led organizations and local activists have been opposing detention expansion for years — and there are already significant wins in this fight. By the latest count\, local activists have stopped 13 proposed warehouse conversions across the country. \nBut many more warehouses are being proposed — and there’s a lot more work to do. Together\, we can block more sites from being built. We can hold DHS accountable for what’s happening at existing facilities. We can make Trump’s detention agenda too politically toxic to sustain. But this only works if we all play our part. \nIf you’re ready to take action\, click here to view the Communities Not Cages map and find an event near you. Or read on\, to learn more about the day of action\, how to host your own event\, and other ways to get involved. \nOur goals and demands\nThe Communities Not Cages Day of Action is about building a nationwide\, coordinated effort to oppose the Trump regime’s mass detention agenda. Together\, we’ll: \n\nShow visible\, public opposition to ICE detention expansion. DHS has been hoping it can quietly expand detention capacity and warehouse human beings without the public hearing about it. It’s up to us to raise the alarm\, and mobilize our communities in opposition.\nDemand that our elected officials join the fight. We need our local electeds to use every tool they have to disrupt the conversion and construction of detention camps in our communities. They must reject any public funding\, permits\, or resources that enable detention expansion.\nBuild connections with other activists in your community. There may be groups in your area who are already engaged in this work and can help you plug in. If not\, you probably have neighbors who are just as concerned as you and are also looking for ways to take action. April 25 is your chance to find those connections and build the resistance in your community.\n\nHow you can join the fight\n1) Find an event near you on April 25. There are events spread across the country including rallies and protests outside proposed and existing detention warehouses. Register for an event\, and invite your friends and neighbors to join you. \n2) Volunteer to host your own event. If there are no events near you\, the host toolkit will help you organize one in your own community. Whether or not there’s a proposed warehouse location near you\, there’s a role for everyone in this fight and we need as many people taking action on April 25 as possible. \n3) Check out our resource page for a full breakdown of the Communities Not Cages Day of Action and the broader campaign to oppose Trump’s detention agenda. This page will have everything you need to get started: event toolkits\, FAQs\, know your rights resources\, recorded trainings\, and tools to find existing or proposed detention warehouses near you. \nIn solidarity\,\nIndivisible Team
URL:https://ilnow.org/event/national/
LOCATION:National
CATEGORIES:Partner Event,Protest / Demonstration
ATTACH;FMTTYPE=image/jpeg:https://ilnow.org/wp-content/uploads/2026/04/Mobilize_Banner_.jpg
END:VEVENT
END:VCALENDAR