BEGIN:VCALENDAR
VERSION:2.0
PRODID:-//Illinois NOW - ECPv6.15.20//NONSGML v1.0//EN
CALSCALE:GREGORIAN
METHOD:PUBLISH
X-WR-CALNAME:Illinois NOW
X-ORIGINAL-URL:https://ilnow.org
X-WR-CALDESC:Events for Illinois NOW
REFRESH-INTERVAL;VALUE=DURATION:PT1H
X-Robots-Tag:noindex
X-PUBLISHED-TTL:PT1H
BEGIN:VTIMEZONE
TZID:America/Chicago
BEGIN:DAYLIGHT
TZOFFSETFROM:-0600
TZOFFSETTO:-0500
TZNAME:CDT
DTSTART:20250309T080000
END:DAYLIGHT
BEGIN:STANDARD
TZOFFSETFROM:-0500
TZOFFSETTO:-0600
TZNAME:CST
DTSTART:20251102T070000
END:STANDARD
BEGIN:DAYLIGHT
TZOFFSETFROM:-0600
TZOFFSETTO:-0500
TZNAME:CDT
DTSTART:20260308T080000
END:DAYLIGHT
BEGIN:STANDARD
TZOFFSETFROM:-0500
TZOFFSETTO:-0600
TZNAME:CST
DTSTART:20261101T070000
END:STANDARD
BEGIN:DAYLIGHT
TZOFFSETFROM:-0600
TZOFFSETTO:-0500
TZNAME:CDT
DTSTART:20270314T080000
END:DAYLIGHT
BEGIN:STANDARD
TZOFFSETFROM:-0500
TZOFFSETTO:-0600
TZNAME:CST
DTSTART:20271107T070000
END:STANDARD
END:VTIMEZONE
BEGIN:VEVENT
DTSTART;VALUE=DATE:20260513
DTEND;VALUE=DATE:20260514
DTSTAMP:20260420T043824
CREATED:20260420T024944Z
LAST-MODIFIED:20260420T024959Z
UID:1085-1778630400-1778716799@ilnow.org
SUMMARY:League of Women Voters Lobby Day
DESCRIPTION:League of Women Voters members across the state are invited to join us for Lobby Day at the Illinois State Capitol during the 2026 spring legislative session. We will meet with our legislators and advocate for the issues you care about. \nNever lobbied in Springfield before? No worries\, we will provide assistance\, including a Zoom training session on Monday\, May 11 at 7:00 pm. \nWe will meet up in Springfield on Wednesday\, May 13. Our activities begin at 10:00 am. The day will wrap by 3:00 pm.\n\n\n\n\n\n\n\n\n\n\nSign up to join us
URL:https://ilnow.org/event/league-of-women-voters-lobby-day/
LOCATION:Illinois State Capital\, 401 S 2nd St\, Springfield\, IL\, 62707\, United States
CATEGORIES:Advocacy / Lobbying,Partner Event
ATTACH;FMTTYPE=image/png:https://ilnow.org/wp-content/uploads/2026/04/a0dfd7a2-a429-4f8d-8a6e-f8b3b1b994a5.png
END:VEVENT
END:VCALENDAR