BEGIN:VCALENDAR
VERSION:2.0
PRODID:-//Illinois NOW - ECPv6.15.20//NONSGML v1.0//EN
CALSCALE:GREGORIAN
METHOD:PUBLISH
X-ORIGINAL-URL:https://ilnow.org
X-WR-CALDESC:Events for Illinois NOW
REFRESH-INTERVAL;VALUE=DURATION:PT1H
X-Robots-Tag:noindex
X-PUBLISHED-TTL:PT1H
BEGIN:VTIMEZONE
TZID:America/Chicago
BEGIN:DAYLIGHT
TZOFFSETFROM:-0600
TZOFFSETTO:-0500
TZNAME:CDT
DTSTART:20240310T080000
END:DAYLIGHT
BEGIN:STANDARD
TZOFFSETFROM:-0500
TZOFFSETTO:-0600
TZNAME:CST
DTSTART:20241103T070000
END:STANDARD
BEGIN:DAYLIGHT
TZOFFSETFROM:-0600
TZOFFSETTO:-0500
TZNAME:CDT
DTSTART:20250309T080000
END:DAYLIGHT
BEGIN:STANDARD
TZOFFSETFROM:-0500
TZOFFSETTO:-0600
TZNAME:CST
DTSTART:20251102T070000
END:STANDARD
BEGIN:DAYLIGHT
TZOFFSETFROM:-0600
TZOFFSETTO:-0500
TZNAME:CDT
DTSTART:20260308T080000
END:DAYLIGHT
BEGIN:STANDARD
TZOFFSETFROM:-0500
TZOFFSETTO:-0600
TZNAME:CST
DTSTART:20261101T070000
END:STANDARD
END:VTIMEZONE
BEGIN:VEVENT
DTSTART;VALUE=DATE:20250711
DTEND;VALUE=DATE:20250714
DTSTAMP:20260419T221637
CREATED:20250120T040746Z
LAST-MODIFIED:20250418T022406Z
UID:720-1752192000-1752451199@ilnow.org
SUMMARY:2025 National NOW Conference
DESCRIPTION:Join us in Las Vegas on July 11th – 13th for a weekend of workshops\, inspiring speakers\, caucuses\, and feminist fun. We will elect National Officers for the 2025-2029 term in Las Vegas as well. \nRegistration\n\nNOW Member Registration\nNon-member Registration\n\nWhat to expect:\n\nConference Agenda\nSpeakers\nWorkshops\nBylaws & Resolutions\n\nConference Rules
URL:https://ilnow.org/event/2025-national-now-conference/
LOCATION:Sahara Las Vegas\, 2535 Las Vegas Boulevard South\, Las Vegas\, NV\, 89109\, United States
CATEGORIES:Conference,National NOW Conference
ATTACH;FMTTYPE=image/jpeg:https://ilnow.org/wp-content/uploads/2025/01/hotel-image.jpg
END:VEVENT
END:VCALENDAR